BEGIN:VCALENDAR
VERSION:2.0
PRODID:icalendar-ruby
CALSCALE:GREGORIAN
METHOD:PUBLISH
BEGIN:VEVENT
DTSTAMP:20260422T024050Z
UID:17-86019@worldfaithvision.org
DTSTART:20261018T150000Z
DTEND:20261018T170000Z
CLASS:PUBLIC
CREATED:20260421T171133
DESCRIPTION:Join us for our Weekly Worship Service at World Faith Vision Ch
 urch!\n When: Every Sunday at 8:00 AM\n Where: World Faith Vision Church\n
 13600 Pawnee Rd.\, Apple Valley\, CA 92395\n Can’t make it in person? Tu
 ne in live on YouTube or Facebook to worship with us virtually!\nEach week
 \, we are blessed to host a special guest speaker who brings an inspiring 
 message to uplift and encourage you.\nCome experience an atmosphere of fai
 th\, fellowship\, and worship. Bring your friends and family—we look for
 ward to seeing you there!\nFor more details or to access our live stream l
 inks\, visit us online at [insert website or contact info].\nLet’s grow 
 in faith together!
LAST-MODIFIED:20260421T171133
LOCATION:WFVC 13600 Pawnee Rd. Apple Valley\, CA. 92308
SUMMARY:8 A.M. Worship Service
URL;VALUE=URI:https://worldfaithvision.org/events/8-a-m-worship-service/202
 6-10-18
ATTACH;FILENAME=WFVC-8am-Worship-Service--Elder-Hannah.jpg;FMTTYPE=image/jp
 eg:https://dq5pwpg1q8ru0.cloudfront.net/2024/12/29/21/20/59/2f3004de-25a4-
 4269-a020-95cedd7de9b4/WFVC-8am-Worship-Service--Elder-Hannah.jpg
END:VEVENT
END:VCALENDAR
